BEGIN:VCALENDAR
VERSION:2.0
PRODID:-//hacksw/handcal//NONSGML v1.0//EN
BEGIN:VEVENT
SUMMARY:Rando a AMBRUS dimanche 19 avril 2026
UID:8f426e3c-6b3c-4f76-a2e2-f83170c0ce66
DTSTART:20260419T073000Z
DTEND:20260419T220000Z
LOCATION:Localisation   
CATEGORIES:Sportif
STATUS:
DESCRIPTION:<p><span style="font-size:12pt;"><span
 style="font-family:Aptos, sans-serif;">Nous proposons une rando
 le<br>
 <strong><span style="font-family:Aptos, sans-serif;">DIMANCHE
 19 avril 2026</span></strong> avec pique-nique sorti du coffre de la
 voiture<br>
 Lieu : </span></span><b><span
 style="font-size:15.5pt;"><span><span style="font-family:Aptos,
 sans-serif;"><span style="color:#000000;">AMBRUS (circuits
 276/403)</span></span></span></span></b><br>
 <span
 style="font-size:12pt;"><span style="font-family:Aptos,
 sans-serif;">Depart : <strong><span style="font-family:Aptos,
 sans-serif;">Parking de l'eglise </span></strong><br>
 Parcours :
 </span></span><b><span style="font-size:15.5pt;"><span
 style="font-family:Aptos, sans-serif;"><span
 style="color:#FF0000;">16 km (2 boucles 10 km et 6
 km)</span></span></span></b><br>
 <span style="font-size:12pt;"><span
 style="font-family:Aptos, sans-serif;">RDV avant
 </span></span><b><span style="font-size:15.5pt;"><span
 style="font-family:Aptos, sans-serif;"><span
 style="color:#FF0000;">08 h 45</span></span></span></b><span
 style="font-size:12pt;"><span style="font-family:Aptos, sans-serif;">
 covoiturage :<br>
 <strong><span style="font-family:Aptos,
 sans-serif;">Parking de la Cite administrative, en haut des
 marches</span></strong><br>
 Depart de la rando :
 </span></span><b><span style="font-size:15.5pt;"><span
 style="font-family:Aptos, sans-serif;"><span
 style="color:#FF0000;">09 h 30</span></span></span></b><br>
 <span
 style="font-size:12pt;"><span style="font-family:Aptos,
 sans-serif;">Animation : <strong><span style="font-family:Aptos,
 sans-serif;"> 06 77 30 73 37</span></strong><br>
 <strong><span><span
 style="font-family:Aptos, sans-serif;"><span
 style="color:#000000;">Si vous vous rendez directement au lieu de
 depart de la rando vous devez en informer l'animateur/animatrice
 soit en envoyant un SMS, soit en
 l'appelant.</span></span></span></strong><br>
 Matin : Denivelee
 cumulee : 160 m. Du petit village d’Ambrus, separe de son eglise et
 de son chateau, vagabondage a travers les vignobles de Buzet et la
 foret landaise ou alternent feuillus et resineux. PM : Denivelee
 cumulee : 105 m. Cette boucle permet de penetrer la vie de la foret
 landaise a l’aide de totems thematiques, ludiques et pedagogiques.
 Au fil des chemins empierres, sablonneux ou sableux, vous decouvrirez
 une vegetation composee de resineux, de chenes lieges mais aussi
 d’une large palette de feuillus</span></span></p>
URL;VALUE=URI:https://randonneurs-agenais.sportsregions.fr/evenements/2026/04/19/rando-a-ambrus-dimanche-19-avril-2026-2443139
END:VEVENT
END:VCALENDAR
