BEGIN:VCALENDAR
VERSION:2.0
PRODID:-//hacksw/handcal//NONSGML v1.0//EN
BEGIN:VEVENT
SUMMARY:Rando a SAUVAGNAS jeudi 16 avril 2026
UID:86a1b984-7891-4bba-b895-6f7df443952d
DTSTART:20260416T120000Z
DTEND:20260416T220000Z
LOCATION:Localisation   
CATEGORIES:Sportif
STATUS:
DESCRIPTION:<p><span style="font-size:12pt;"><span
 style="font-family:Aptos, sans-serif;">Nous proposons une rando
 le<br>
 <strong><span style="font-family:Aptos, sans-serif;">JEUDI 16
 avril 2026 </span></strong><br>
 Lieu : </span></span><b><span
 style="font-size:15.5pt;"><span><span style="font-family:Aptos,
 sans-serif;"><span style="color:#000000;">SAUVAGNAS (circuit
 440)</span></span></span></span></b><br>
 <span
 style="font-size:12pt;"><span style="font-family:Aptos,
 sans-serif;">Depart : </span></span><strong><span
 style="font-size:15.5pt;"><span style="font-family:Aptos,
 sans-serif;"><span style="color:#FF0000;">Parking de la
 Mairie</span></span></span></strong><br>
 <span
 style="font-size:12pt;"><span style="font-family:Aptos,
 sans-serif;">Parcours : </span></span><b><span
 style="font-size:15.5pt;"><span style="font-family:Aptos,
 sans-serif;"><span style="color:#FF0000;">11
 km</span></span></span></b><br>
 <span style="font-size:12pt;"><span
 style="font-family:Aptos, sans-serif;">RDV avant
 </span></span><b><span style="font-size:15.5pt;"><span
 style="font-family:Aptos, sans-serif;"><span
 style="color:#FF0000;">13h30</span></span></span></b><span
 style="font-size:12pt;"><span style="font-family:Aptos, sans-serif;">
 pour covoiturage :<br>
 ZAC Agen sud ave du Midi parking entre les
 magasins La Grande Recre et KIABI<br>
 Depart de la rando :
 </span></span><b><span style="font-size:15.5pt;"><span
 style="font-family:Aptos, sans-serif;"><span
 style="color:#FF0000;">14 h 00</span></span></span></b><br>
 <span
 style="font-size:12pt;"><span style="font-family:Aptos,
 sans-serif;">Animation : <b> 06 70 20 71
 71</b><br>
 <strong><span><span style="font-family:Aptos,
 sans-serif;"><span style="color:#000000;">Si vous vous rendez
 directement au lieu de depart de la rando vous devez en
 informer l'animateur/animatrice soit en envoyant un SMS, soit en
 l'appelant.</span></span></span></strong><br>
 Denivelee cumulee : 290
 m. Depuis le village, terre de passage des Romains et des Templiers,
 les sentiers se succedent entre vallon, falaise et coteaux pour vous
 offrir de merveilleux points de vue sur le Pays de
 Serres.</span></span><br>
 <br>
  </p>
URL;VALUE=URI:https://randonneurs-agenais.sportsregions.fr/evenements/2026/04/16/rando-a-sauvagnas-jeudi-16-avril-2026-2440116
END:VEVENT
END:VCALENDAR
