BEGIN:VCALENDAR
VERSION:2.0
PRODID:-//hacksw/handcal//NONSGML v1.0//EN
BEGIN:VEVENT
SUMMARY:Rando a ST MAURIN dimanche 12 avril 2026
UID:2419d192-4b8f-4b5b-9156-e93b95c9c34c
DTSTART:20260412T073000Z
DTEND:20260412T220000Z
LOCATION:Localisation   
CATEGORIES:Sportif
STATUS:
DESCRIPTION:<p><span style="font-size:12pt;"><span
 style="font-family:Aptos, sans-serif;">Nous proposons une rando
 le<br>
 <strong><span style="font-family:Aptos, sans-serif;">DIMANCHE
 12 avril 2026</span></strong> avec pique-nique sorti du coffre de la
 voiture<br>
 Lieu : </span></span><b><span
 style="font-size:15.5pt;"><span><span style="font-family:Aptos,
 sans-serif;"><span style="color:#000000;">St MAURIN (circuits 55
 modifie et 22)</span></span></span></span></b><br>
 <span
 style="font-size:12pt;"><span style="font-family:Aptos,
 sans-serif;">Depart : <strong><span style="font-family:Aptos,
 sans-serif;">Place de la mairie </span></strong><br>
 Parcours :
 </span></span><b><span style="font-size:15.5pt;"><span
 style="font-family:Aptos, sans-serif;"><span
 style="color:#FF0000;">16 km (2 boucles 11 km et 5
 km)</span></span></span></b><br>
 <span style="font-size:12pt;"><span
 style="font-family:Aptos, sans-serif;">RDV avant
 </span></span><b><span style="font-size:15.5pt;"><span
 style="font-family:Aptos, sans-serif;"><span
 style="color:#FF0000;">09 h 00</span></span></span></b><span
 style="font-size:12pt;"><span style="font-family:Aptos, sans-serif;">
 covoiturage :<br>
 <strong><span style="font-family:Aptos,
 sans-serif;">Parking de la Cite administrative, en haut des
 marches</span></strong><br>
 Depart de la rando :
 </span></span><b><span style="font-size:15.5pt;"><span
 style="font-family:Aptos, sans-serif;"><span
 style="color:#FF0000;">09 h 30</span></span></span></b><br>
 <span
 style="font-size:12pt;"><span style="font-family:Aptos,
 sans-serif;">Animation : <strong><span style="font-family:Aptos,
 sans-serif;"> 06 07 84 26 18</span></strong><br>
 <strong><span><span
 style="font-family:Aptos, sans-serif;"><span
 style="color:#000000;">Si vous vous rendez directement au lieu de
 depart de la rando vous devez en informer l'animateur/animatrice
 soit en envoyant un SMS, soit en
 l'appelant.</span></span></span></strong><br>
 Matin : Denivelee
 cumulee : 325 m. De l’Abbaye de Saint-Maurin, dans la vallee de
 l’Escorneboeuf, au Moulin de Ferrussac, implante sur la Seoune, ce
 circuit traverse des vergers et franchi « la frontiere » du
 Tarn-et-Garonne. PM : Denivelee cumulee : 155 m. Ce circuit facile ne
 comporte qu’une seule veritable cote, avant d’arriver a
 l’eglise de Saint-Pierre del-Pech. Le circuit continue dans un
 chemin ombrage puis sur un plateau decouvert permettant de decouvrir
 les coteaux environnants et quelques fermes munies de pigeonniers en
 pierre.</span></span><br>
 <br>
  </p>
URL;VALUE=URI:https://randonneurs-agenais.sportsregions.fr/evenements/2026/04/12/rando-a-st-maurin-dimanche-12-avril-2026-2439544
END:VEVENT
END:VCALENDAR
