BEGIN:VCALENDAR
VERSION:2.0
PRODID:-//hacksw/handcal//NONSGML v1.0//EN
BEGIN:VEVENT
SUMMARY:Rando remise en forme a PLEICHAC vendredi 3 avril 2026
UID:77d9daa5-2968-47e3-a656-8b3cac630024
DTSTART:20260403T114500Z
DTEND:20260403T220000Z
LOCATION:Localisation   
CATEGORIES:Sportif
STATUS:
DESCRIPTION:<p><span style="font-size:12pt;"><span
 style="font-family:Aptos, sans-serif;">Nous proposons une rando de
 remise en forme le<br>
 <strong><span style="font-family:Aptos,
 sans-serif;">VENDREDI 3 avril 2026</span></strong><br>
 Lieu :
 </span></span><b><span style="font-size:15.5pt;"><span><span
 style="font-family:Aptos, sans-serif;"><span
 style="color:#000000;">PLEICHAC (circuit
 315)</span></span></span></span></b><br>
 <span
 style="font-size:12pt;"><span style="font-family:Aptos,
 sans-serif;">Depart : Devant le cimetiere<br>
 Parcours :
 </span></span><b><span style="font-size:15.5pt;"><span
 style="font-family:Aptos, sans-serif;"><span
 style="color:#FF0000;">5,6 km</span></span></span></b><br>
 <span
 style="font-size:12pt;"><span style="font-family:Aptos,
 sans-serif;">RDV avant </span></span><b><span
 style="font-size:15.5pt;"><span style="font-family:Aptos,
 sans-serif;"><span style="color:#FF0000;">13 h
 30</span></span></span></b><span style="font-size:12pt;"><span
 style="font-family:Aptos, sans-serif;"> pour covoiturage
 :<br>
 <strong><span style="font-family:Aptos, sans-serif;">ZAC Agen
 sud ave du Midi parking entre les magasins La Grande Recre et
 KIABI</span></strong><br>
 Depart de la rando : </span></span><b><span
 style="font-size:15.5pt;"><span style="font-family:Aptos,
 sans-serif;"><span style="color:#FF0000;">13 h
 45</span></span></span></b><br>
 <span style="font-size:12pt;"><span
 style="font-family:Aptos, sans-serif;">Animation : <b> 06 77 30 73
 37</b><br>
 <strong><span><span style="font-family:Aptos,
 sans-serif;"><span style="color:#000000;">Pour participer a cette
 rando vous devez vous inscrire aupres de l'animateur soit en
 envoyant un SMS, soit en
 l'appelant.</span></span></span></strong><br>
 Denivelee cumulee : 160
 m. Cette balade entre bois, vergers et vignobles offre plusieurs
 points de vue sur les chateaux de Roquefort et d’Estillac, mais
 aussi sur les villages promontoires tels que Laplume et
 Moncaut..</span></span></p>
URL;VALUE=URI:https://randonneurs-agenais.sportsregions.fr/evenements/2026/04/03/rando-remise-en-forme-a-pleichac-vendredi-3-avril-2026-2434500
END:VEVENT
END:VCALENDAR
