BEGIN:VCALENDAR
VERSION:2.0
PRODID:-//hacksw/handcal//NONSGML v1.0//EN
BEGIN:VEVENT
SUMMARY:Rando remise en forme a LAROQUE-TIMBAUT  vendredi 13 mars 2026
UID:483b626c-e56d-4269-9436-1b90072e25fb
DTSTART:20260313T130000Z
DTEND:20260313T230000Z
LOCATION:Localisation   
CATEGORIES:Sportif
STATUS:
DESCRIPTION:<p><span style="font-size:12pt;"><span
 style="font-family:Aptos, sans-serif;">Nous proposons une rando de
 remise en forme le<br>
 <strong><span style="font-family:Aptos,
 sans-serif;">VENDREDI 13 mars 2026</span></strong><br>
 Lieu :
 </span></span><b><span style="font-size:15.5pt;"><span><span
 style="font-family:Aptos, sans-serif;"><span
 style="color:#000000;">LAROQUE TIMBAUT (circuit
 20)</span></span></span></span></b><br>
 <span
 style="font-size:12pt;"><span style="font-family:Aptos,
 sans-serif;">Depart : Parking de la mairie<br>
 Parcours :
 </span></span><b><span style="font-size:15.5pt;"><span
 style="font-family:Aptos, sans-serif;"><span style="color:#FF0000;">5
 km</span></span></span></b><br>
 <span style="font-size:12pt;"><span
 style="font-family:Aptos, sans-serif;">RDV avant
 </span></span><b><span style="font-size:15.5pt;"><span
 style="font-family:Aptos, sans-serif;"><span
 style="color:#FF0000;">13 h 30</span></span></span></b><span
 style="font-size:12pt;"><span style="font-family:Aptos, sans-serif;">
 pour covoiturage :<br>
 <strong><span style="font-family:Aptos,
 sans-serif;">ZAC Agen sud ave du Midi parking entre les magasins La
 Grande Recre et KIABI</span></strong><br>
 Depart de la rando :
 </span></span><b><span style="font-size:15.5pt;"><span
 style="font-family:Aptos, sans-serif;"><span
 style="color:#FF0000;">14 h 00</span></span></span></b><br>
 <span
 style="font-size:12pt;"><span style="font-family:Aptos,
 sans-serif;">Animation : <b> 06 77 30 73
 37</b><br>
 <strong><span><span style="font-family:Aptos,
 sans-serif;"><span style="color:#000000;">Pour participer a cette
 rando vous devez vous inscrire aupres de l'animateur soit en
 envoyant un SMS, soit en
 l'appelant.</span></span></span></strong><br>
 Denivelee cumulee : 135
 m. Ce circuit facile, tourne autour du village de Laroque, reliant
 l’eglise paroissiale a la vieille eglise puis a celle de
 Saint-Germain dont l’eau de sa fontaine, selon la legende, soigna
 les maux de l’armee de Roland.</span></span><br>
 <br>
  </p>
URL;VALUE=URI:https://randonneurs-agenais.sportsregions.fr/evenements/2026/03/13/rando-remise-en-forme-a-laroque-timbaut-vendredi-13-mars-2026-2423966
END:VEVENT
END:VCALENDAR
