BEGIN:VCALENDAR
VERSION:2.0
PRODID:-//hacksw/handcal//NONSGML v1.0//EN
BEGIN:VEVENT
SUMMARY:Rando a St BEAUZEIL (82) jeudi 12 mars 2026
UID:c8ad64a8-586b-4209-94a0-28467a24148e
DTSTART:20260312T130000Z
DTEND:20260312T230000Z
LOCATION:Localisation   
CATEGORIES:Sportif
STATUS:
DESCRIPTION:<p><span style="font-size:12pt;"><span
 style="font-family:'Times New Roman', serif;">Nous proposons une
 rando le<br>
 <strong>JEUDI 12 mars 2026 </strong><br>
 Lieu :
 </span></span><b><span style="font-size:15.5pt;"><span><span
 style="font-family:'Times New Roman', serif;"><span
 style="color:#000000;">St BEAUZEIL
 (82)</span></span></span></span></b><br>
 <span
 style="font-size:12pt;"><span style="font-family:'Times New Roman',
 serif;">Depart : </span></span><strong><span
 style="font-size:15.5pt;"><span style="color:#FF0000;">Parking de la
 mairie, </span></span></strong><br>
 <span
 style="font-size:12pt;"><span style="font-family:'Times New Roman',
 serif;">Parcours : </span></span><b><span
 style="font-size:15.5pt;"><span style="font-family:'Times New Roman',
 serif;"><span style="color:#FF0000;">10
 km</span></span></span></b><br>
 <span style="font-size:12pt;"><span
 style="font-family:'Times New Roman', serif;">RDV avant
 </span></span><b><span style="font-size:15.5pt;"><span
 style="font-family:'Times New Roman', serif;"><span
 style="color:#FF0000;">13 h30</span></span></span></b><span
 style="font-size:12pt;"><span style="font-family:'Times New Roman',
 serif;"> pour covoiturage :<br>
 ZAC Agen sud ave du Midi parking
 entre les magasins La Grande Recre et KIABI<br>
 Depart de la rando :
 </span></span><b><span style="font-size:15.5pt;"><span
 style="font-family:'Times New Roman', serif;"><span
 style="color:#FF0000;">14 h 00</span></span></span></b><br>
 <span
 style="font-size:12pt;"><span style="font-family:'Times New Roman',
 serif;">Animation : <b> 06 76 47 32 12</b><br>
 <strong><span><span
 style="color:#000000;">Si vous vous rendez directement au lieu de
 depart de la rando vous devez en informer l'animateur/animatrice
 soit en envoyant un SMS, soit en
 l'appelant.</span></span></strong><br>
 A voir sur l’itineraire
 :Eglise de Souillas . D’origine romane, les parties les plus
 anciennes se trouvent au chevet et au nord. Placee sous le vocable de
 Saint Sulpice / Saint Simplice, elle a ete partiellement rebatie aux
 XVIIIeme et XIXeme s. Abside semi-circulaire voutee en cul-de-four
 precedee d’une travee droite couverte en berceau.Clocher-tour
 barlong. Eglise de Saint Fabien / Saint Sebastien Annexe de Souillas,
 c’est un edifice du XIVeme s. remanie par la suite. Chœur
 rectangulaire voute d’ogives retombant sur des culots decores de
 masques et d’anges. La nef a ete rebatie en 1781 apres s’etre
 effondree. Clocher-mur modeste a une seule
 arcade</span></span><br>
 <br>
  </p>
URL;VALUE=URI:https://randonneurs-agenais.sportsregions.fr/evenements/2026/03/12/rando-a-st-beauzeil-82-jeudi-12-mars-2026-2423963
END:VEVENT
END:VCALENDAR
