BEGIN:VCALENDAR
VERSION:2.0
PRODID:-//hacksw/handcal//NONSGML v1.0//EN
BEGIN:VEVENT
SUMMARY:Rando au LAC du SALABERT LACAPEDE dimanche 8 mars 2026
UID:38dd741d-83fa-4084-8168-f1fb62fde9f6
DTSTART:20260308T083000Z
DTEND:20260308T230000Z
LOCATION:Localisation   
CATEGORIES:Sportif
STATUS:
DESCRIPTION:<p><span style="font-size:12pt;"><span
 style="font-family:Aptos, sans-serif;">Nous proposons une rando
 le<br>
 <strong><span style="font-family:Aptos, sans-serif;">DIMANCHE
 8 mars 2026</span></strong> avec pique-nique sorti du coffre de la
 voiture<br>
 Lieu : </span></span><b><span
 style="font-size:15.5pt;"><span><span style="font-family:Aptos,
 sans-serif;"><span style="color:#000000;">LAC du SALABERT LACAPEDE
 (circuit 172-158)</span></span></span></span></b><br>
 <span
 style="font-size:12pt;"><span style="font-family:Aptos,
 sans-serif;">Depart : <strong><span style="font-family:Aptos,
 sans-serif;">Au lac de Salabert</span></strong><br>
 Parcours :
 </span></span><b><span style="font-size:15.5pt;"><span
 style="font-family:Aptos, sans-serif;"><span
 style="color:#FF0000;">18 km (2 boucles, Matin 10,5 km circuit 172
 raccourci, AM 7,5 km l'apres-midi circuit 158
 raccourci)</span></span></span></b><br>
 <span
 style="font-size:12pt;"><span style="font-family:Aptos,
 sans-serif;">RDV avant </span></span><b><span
 style="font-size:15.5pt;"><span style="font-family:Aptos,
 sans-serif;"><span style="color:#FF0000;">09 h
 00</span></span></span></b><span style="font-size:12pt;"><span
 style="font-family:Aptos, sans-serif;"> covoiturage
 :<br>
 <strong><span style="font-family:Aptos, sans-serif;">Parking de
 la Cite administrative, en haut des
 marches</span></strong><br>
 Depart de la rando :
 </span></span><b><span style="font-size:15.5pt;"><span
 style="font-family:Aptos, sans-serif;"><span
 style="color:#FF0000;">09 h 30</span></span></span></b><br>
 <span
 style="font-size:12pt;"><span style="font-family:Aptos,
 sans-serif;">Animation : <strong><span style="font-family:Aptos,
 sans-serif;"> 06 73 88 27 42</span></strong><br>
 <strong><span><span
 style="font-family:Aptos, sans-serif;"><span
 style="color:#000000;">Si vous vous rendez directement au lieu de
 depart de la rando vous devez en informer l'animateur/animatrice
 soit en envoyant un SMS, soit en
 l'appelant.</span></span></span></strong><br>
 Matin : Les chemins
 coupent collines et vallees parsemees de vignes, vergers et lacs
 collinaires. AM: Denivelee cumulee : 230 m. Vergers de pruniers
 d’Ente et de noisetiers bordent les chemins jusqu’au lac de
 Salabert. Cet espace nature est un lieu de decouverte botanique et un
 observatoire des oiseaux migrateurs.</span></span><br>
 <br>
  </p>
URL;VALUE=URI:https://randonneurs-agenais.sportsregions.fr/evenements/2026/03/08/rando-au-lac-du-salabert-lacapede-dimanche-8-mars-2026-2423642
END:VEVENT
END:VCALENDAR
